BEGIN:VCALENDAR
VERSION:2.0
PRODID:-//Get Natural - ECPv6.15.17//NONSGML v1.0//EN
CALSCALE:GREGORIAN
METHOD:PUBLISH
X-WR-CALNAME:Get Natural
X-ORIGINAL-URL:https://getnatural.de
X-WR-CALDESC:Veranstaltungen für Get Natural
REFRESH-INTERVAL;VALUE=DURATION:PT1H
X-Robots-Tag:noindex
X-PUBLISHED-TTL:PT1H
BEGIN:VTIMEZONE
TZID:Europe/Berlin
BEGIN:DAYLIGHT
TZOFFSETFROM:+0100
TZOFFSETTO:+0200
TZNAME:CEST
DTSTART:20220327T010000
END:DAYLIGHT
BEGIN:STANDARD
TZOFFSETFROM:+0200
TZOFFSETTO:+0100
TZNAME:CET
DTSTART:20221030T010000
END:STANDARD
BEGIN:DAYLIGHT
TZOFFSETFROM:+0100
TZOFFSETTO:+0200
TZNAME:CEST
DTSTART:20230326T010000
END:DAYLIGHT
BEGIN:STANDARD
TZOFFSETFROM:+0200
TZOFFSETTO:+0100
TZNAME:CET
DTSTART:20231029T010000
END:STANDARD
BEGIN:DAYLIGHT
TZOFFSETFROM:+0100
TZOFFSETTO:+0200
TZNAME:CEST
DTSTART:20240331T010000
END:DAYLIGHT
BEGIN:STANDARD
TZOFFSETFROM:+0200
TZOFFSETTO:+0100
TZNAME:CET
DTSTART:20241027T010000
END:STANDARD
BEGIN:DAYLIGHT
TZOFFSETFROM:+0100
TZOFFSETTO:+0200
TZNAME:CEST
DTSTART:20250330T010000
END:DAYLIGHT
BEGIN:STANDARD
TZOFFSETFROM:+0200
TZOFFSETTO:+0100
TZNAME:CET
DTSTART:20251026T010000
END:STANDARD
BEGIN:DAYLIGHT
TZOFFSETFROM:+0100
TZOFFSETTO:+0200
TZNAME:CEST
DTSTART:20260329T010000
END:DAYLIGHT
BEGIN:STANDARD
TZOFFSETFROM:+0200
TZOFFSETTO:+0100
TZNAME:CET
DTSTART:20261025T010000
END:STANDARD
BEGIN:DAYLIGHT
TZOFFSETFROM:+0100
TZOFFSETTO:+0200
TZNAME:CEST
DTSTART:20270328T010000
END:DAYLIGHT
BEGIN:STANDARD
TZOFFSETFROM:+0200
TZOFFSETTO:+0100
TZNAME:CET
DTSTART:20271031T010000
END:STANDARD
END:VTIMEZONE
BEGIN:VTIMEZONE
TZID:Europe/Paris
BEGIN:DAYLIGHT
TZOFFSETFROM:+0100
TZOFFSETTO:+0200
TZNAME:CEST
DTSTART:20240331T010000
END:DAYLIGHT
BEGIN:STANDARD
TZOFFSETFROM:+0200
TZOFFSETTO:+0100
TZNAME:CET
DTSTART:20241027T010000
END:STANDARD
BEGIN:DAYLIGHT
TZOFFSETFROM:+0100
TZOFFSETTO:+0200
TZNAME:CEST
DTSTART:20250330T010000
END:DAYLIGHT
BEGIN:STANDARD
TZOFFSETFROM:+0200
TZOFFSETTO:+0100
TZNAME:CET
DTSTART:20251026T010000
END:STANDARD
BEGIN:DAYLIGHT
TZOFFSETFROM:+0100
TZOFFSETTO:+0200
TZNAME:CEST
DTSTART:20260329T010000
END:DAYLIGHT
BEGIN:STANDARD
TZOFFSETFROM:+0200
TZOFFSETTO:+0100
TZNAME:CET
DTSTART:20261025T010000
END:STANDARD
END:VTIMEZONE
BEGIN:VEVENT
DTSTART;VALUE=DATE:20260401
DTEND;VALUE=DATE:20260407
DTSTAMP:20260423T133318
CREATED:20260114T094140Z
LAST-MODIFIED:20260114T094407Z
UID:18227-1775001600-1775519999@getnatural.de
SUMMARY:Historische Leipziger Ostermesse 2026
DESCRIPTION:„Die vergnüglichste Art\, Historisches zu erleben“ \nKarfreitag Ruhetag!
URL:https://getnatural.de/event/historische-leipziger-ostermesse-2026/
LOCATION:Leipziger Marktplatz\, Markt 1a\, Leipzig\, 04109\, Deutschland
ORGANIZER;CN="Heureka":MAILTO:info@heureka-leipzig.de
END:VEVENT
BEGIN:VEVENT
DTSTART;VALUE=DATE:20251122
DTEND;VALUE=DATE:20251223
DTSTAMP:20260423T133318
CREATED:20250210T174610Z
LAST-MODIFIED:20250210T174610Z
UID:15198-1763769600-1766447999@getnatural.de
SUMMARY:Weihnachtsmarkt in Siegburg 2025
DESCRIPTION:Mittelalterlicher Markt zur Weihnachtszeit\, hier auf dem altehrwürdigen Marktplatz zu Siegburg.
URL:https://getnatural.de/event/weihnachtsmarkt-in-siegburg-2025/
LOCATION:Siegburg\, Marktplatz\,\, Siegburg\, Nordrhein-Westfalen\, 53721\, Deutschland
ATTACH;FMTTYPE=image/jpeg:https://getnatural.de/wp-content/uploads/2024/03/Siegburg.jpg
ORGANIZER;CN="Stadtmarketing Siegburg GmbH":MAILTO:weihnachtsmarkt@siegburg.de
END:VEVENT
BEGIN:VEVENT
DTSTART;VALUE=DATE:20250913
DTEND;VALUE=DATE:20250915
DTSTAMP:20260423T133318
CREATED:20250210T174408Z
LAST-MODIFIED:20250210T174455Z
UID:15221-1757721600-1757894399@getnatural.de
SUMMARY:Mittelalterfest Eggenburg - Waldviertel - 2025
DESCRIPTION:2025 wird die Zeitreise ins Mittelalter zum 31. Mal stattfinden. Damit ist es nicht nur das größte\, sondern auch das älteste noch bestehende Mittelalterfest in Österreich!
URL:https://getnatural.de/event/mittelalterfest-eggenburg-waldviertel-copy/
LOCATION:Eggenburg\, Österreich\, Hauplplatz\, Eggenburg\, 3730\, Österreich
ATTACH;FMTTYPE=image/jpeg:https://getnatural.de/wp-content/uploads/2021/03/Mittelaltermarkt-Eggenburg-01-scaled.jpg
END:VEVENT
BEGIN:VEVENT
DTSTART;VALUE=DATE:20250912
DTEND;VALUE=DATE:20250915
DTSTAMP:20260423T133318
CREATED:20250210T174235Z
LAST-MODIFIED:20250210T174235Z
UID:15219-1757635200-1757894399@getnatural.de
SUMMARY:Stadtmauerfest Nördlingen 2025
DESCRIPTION:Alle drei Jahre wird die ehemals Freie Reichsstadt Nördlingen beim „Historischen Stadtmauerfest“ für ein Wochenende ins Mittelalter zurückversetzt!
URL:https://getnatural.de/event/stadtmauerfest-noerdlingen-2025/
LOCATION:Nördlingen\, Innenstadt\, Nördlingen\, Bayern\, 86720\, Deutschland
ATTACH;FMTTYPE=image/jpeg:https://getnatural.de/wp-content/uploads/2021/06/Noerdlingen-stadtmauerfest-2007-lager-scaled.jpg
END:VEVENT
BEGIN:VEVENT
DTSTART;VALUE=DATE:20250803
DTEND;VALUE=DATE:20250811
DTSTAMP:20260423T133318
CREATED:20250210T174053Z
LAST-MODIFIED:20250210T174053Z
UID:15217-1754179200-1754870399@getnatural.de
SUMMARY:Mittelalterwoche in Visby auf Gotland 2025
DESCRIPTION:Auf\, auf nach Schweden! \nImmer in der 32. Kalenderwoche des Jahres findet auf der schwedischen Ostseeinsel Gotland mit der Mittelalterwoche (Medeltidsveckan) eines der größten derartigen Feste ganz Europas statt.
URL:https://getnatural.de/event/mittelalterwoche-in-visby-auf-gotland-2025/
LOCATION:Visby\, Insel Gotland\, Strandgatan 28\, Visby\, Insel Gotland\, 62156\, Schweden
ATTACH;FMTTYPE=image/jpeg:https://getnatural.de/wp-content/uploads/2024/03/Visby.jpg
ORGANIZER;CN="Medeltidsveckan pa Gotland":MAILTO:info@medeltidsveckan.se
END:VEVENT
BEGIN:VEVENT
DTSTART;VALUE=DATE:20250725
DTEND;VALUE=DATE:20250728
DTSTAMP:20260423T133318
CREATED:20250210T173821Z
LAST-MODIFIED:20250210T173821Z
UID:15212-1753401600-1753660799@getnatural.de
SUMMARY:Kaltenberger Ritterturnier 3. von 3 Wochenenden 2025
DESCRIPTION:das 3. und letzte Wochenende des Turniers!
URL:https://getnatural.de/event/kaltenberger-ritterturnier-3-von-3-wochenenden-2025/
LOCATION:Kaltenberg\, Schloßstraße 10\, Geltendorf\, 82269\, Deutschland
ATTACH;FMTTYPE=image/jpeg:https://getnatural.de/wp-content/uploads/2024/03/Kaltenberg.jpg
ORGANIZER;CN="Ritterturnier Kaltenberg Veranstaltungs-GmbH":MAILTO:ritterturnier@schloss-kaltenberg.de
END:VEVENT
BEGIN:VEVENT
DTSTART;VALUE=DATE:20250718
DTEND;VALUE=DATE:20250721
DTSTAMP:20260423T133318
CREATED:20250210T173757Z
LAST-MODIFIED:20250210T173757Z
UID:15213-1752796800-1753055999@getnatural.de
SUMMARY:Kaltenberger Ritterturnier 2. von 3 Wochenenden 2025
DESCRIPTION:Auf nach Kaltenberg!
URL:https://getnatural.de/event/kaltenberger-ritterturnier-2-von-3-wochenenden-2025/
LOCATION:Kaltenberg\, Schloßstraße 10\, Geltendorf\, 82269\, Deutschland
ATTACH;FMTTYPE=image/jpeg:https://getnatural.de/wp-content/uploads/2021/03/Ritterturnier-Kaltenberg-Veranstaltung-01.jpg
ORGANIZER;CN="Ritterturnier Kaltenberg Veranstaltungs-GmbH":MAILTO:ritterturnier@schloss-kaltenberg.de
END:VEVENT
BEGIN:VEVENT
DTSTART;VALUE=DATE:20250711
DTEND;VALUE=DATE:20250714
DTSTAMP:20260423T133318
CREATED:20250210T173857Z
LAST-MODIFIED:20250210T173857Z
UID:15211-1752192000-1752451199@getnatural.de
SUMMARY:Kaltenberger Ritterturnier 1. von 3 Wochenenden 2025
DESCRIPTION:Mit viel Liebe wird ein Mittelalterfest inszeniert.\nDie Krönung ist die große Ritterturnier-Show: Eine Liveshow der Extraklasse.\nAm Freitag\, den 11.07.2025 findet die diesjährige Gauklernacht statt! \n 
URL:https://getnatural.de/event/kaltenberger-ritterturnier-1-von-3-wochenenden-2025/
LOCATION:Kaltenberg\, Schloßstraße 10\, Geltendorf\, 82269\, Deutschland
ATTACH;FMTTYPE=image/jpeg:https://getnatural.de/wp-content/uploads/2022/04/Kaltenberger-Rittertunier.jpg
ORGANIZER;CN="Ritterturnier Kaltenberg Veranstaltungs-GmbH":MAILTO:ritterturnier@schloss-kaltenberg.de
END:VEVENT
BEGIN:VEVENT
DTSTART;VALUE=DATE:20250704
DTEND;VALUE=DATE:20250708
DTSTAMP:20260423T133318
CREATED:20250210T172828Z
LAST-MODIFIED:20250211T130429Z
UID:15208-1751587200-1751932799@getnatural.de
SUMMARY:Peter-und-Paul-Fest Mittelalter- und Bürgerwehren-Event in Bretten
DESCRIPTION:„Eine Stadt lebt ihre Geschichte“ und wir sind mit dabei!
URL:https://getnatural.de/event/peter-und-paul-fest-mittelalter-und-buergerwehren-event-in-bretten/
LOCATION:Bretten\, Bretten\, 75015\, Deutschland
END:VEVENT
BEGIN:VEVENT
DTSTART;VALUE=DATE:20250704
DTEND;VALUE=DATE:20250707
DTSTAMP:20260423T133318
CREATED:20250210T171046Z
LAST-MODIFIED:20250210T174727Z
UID:15202-1751587200-1751846399@getnatural.de
SUMMARY:Neuburger Schloßfest 2025
DESCRIPTION:Die Renaissance erwacht in Neuburg an der Donau! \nZweites von zwei Wochenendveranstaltungen.
URL:https://getnatural.de/event/neuburger-schlossfest-2025/
LOCATION:Neuburg\, Schloss\, Neuburg an der Donau\, Bayern\, 86633\, Deutschland
ATTACH;FMTTYPE=image/jpeg:https://getnatural.de/wp-content/uploads/2022/07/Neuburger-Schlossfestspiele.jpg
END:VEVENT
BEGIN:VEVENT
DTSTART;VALUE=DATE:20250627
DTEND;VALUE=DATE:20250630
DTSTAMP:20260423T133318
CREATED:20250210T171102Z
LAST-MODIFIED:20250210T174735Z
UID:15205-1750982400-1751241599@getnatural.de
SUMMARY:Neuburger Schloßfest 2025
DESCRIPTION:Die Renaissance erwacht in Neuburg an der Donau! \nErstes von zwei Wochenendveranstaltungen.
URL:https://getnatural.de/event/neuburger-schlossfest-2025-2/
LOCATION:Neuburg\, Schloss\, Neuburg an der Donau\, Bayern\, 86633\, Deutschland
ATTACH;FMTTYPE=image/jpeg:https://getnatural.de/wp-content/uploads/2022/07/Neuburger-Schlossfestspiele.jpg
END:VEVENT
BEGIN:VEVENT
DTSTART;VALUE=DATE:20250613
DTEND;VALUE=DATE:20250616
DTSTAMP:20260423T133318
CREATED:20240215T105106Z
LAST-MODIFIED:20250210T170228Z
UID:13218-1749772800-1750031999@getnatural.de
SUMMARY:Luthers Hochzeit in Wittenberg
DESCRIPTION:Es ist wieder soweit: Wittenberg öffnet seine Tore und begrüßt zahlreiche Gäste aus nah und fern\, um gemeinsam die Hochzeit des berühmten Wittenberger Reformators Martin Luther und seiner Frau Katharina von Bora zu feiern.
URL:https://getnatural.de/event/luthers-hochzeit-in-wittenberg/
LOCATION:Lutherstadt Wittenberg\, Marktplatz\, Wittenberg\, 06886
ORGANIZER;CN="Lutherstadt Wittenberg Marketing GmbH":MAILTO:marketing@wittenberg.de
END:VEVENT
BEGIN:VEVENT
DTSTART;VALUE=DATE:20250607
DTEND;VALUE=DATE:20250610
DTSTAMP:20260423T133318
CREATED:20240215T101158Z
LAST-MODIFIED:20250211T130314Z
UID:13208-1749254400-1749513599@getnatural.de
SUMMARY:Das Pfingst-Ritter-Turnier Schloss Trebsen 2025
DESCRIPTION:Schloss Trebsen an der Mulde lädt auch in 2025 zu den Pfingstritterspielen mit historischem Markt ein.
URL:https://getnatural.de/event/das-pfingst-ritter-turnier-schloss-trebsen-2025/
LOCATION:Trebsen\, Zum Schloss 1\, Trebsen\, Sachsen\, 04687\, Deutschland
ORGANIZER;CN="Schloss Trebsen":MAILTO:info@schloss-trebsen.com
END:VEVENT
BEGIN:VEVENT
DTSTART;VALUE=DATE:20250530
DTEND;VALUE=DATE:20250602
DTSTAMP:20260423T133318
CREATED:20240215T102155Z
LAST-MODIFIED:20250210T174942Z
UID:13212-1748563200-1748822399@getnatural.de
SUMMARY:32. Burgfest in Neustadt Glewe
DESCRIPTION:Das Mittelalter kehrt zurück nach Neustadt-Glewe — ein Familienausflug in die Vergangenheit
URL:https://getnatural.de/event/31-burgfest-in-neustadt-glewe/
LOCATION:Neustadt-Glewe\, Alte Burg 1\, Neustadt-Glewe\, Mecklenburg-Vorpommern\, 9306\, Deutschland
ORGANIZER;CN="Stadt Neustadt Glewe":MAILTO:k.tappe@neustadt-glewe.de
END:VEVENT
BEGIN:VEVENT
DTSTART;VALUE=DATE:20250503
DTEND;VALUE=DATE:20250505
DTSTAMP:20260423T133318
CREATED:20250317T144925Z
LAST-MODIFIED:20250317T144925Z
UID:15615-1746230400-1746403199@getnatural.de
SUMMARY:Bauern- und Handwerkermarkt Weinsberg
DESCRIPTION:Am Samstag und Sonntag findet um die Johanneskirche Weinsberg ein Bauern- und Handwerkermarkt mit Handwerksvorführungen\, historischen Kinderspielen sowie Speis und Trank statt.
URL:https://getnatural.de/event/bauern-und-handwerkermarkt-weinsberg/
LOCATION:Johanneskirche Weinsberg\, Ökolampadiuspl. 1\, Weinsberg\, Baden-Württemberg\, 74189\, Germany
ORGANIZER;CN="Stadt Weinsberg":MAILTO:stadt@weinsberg.de
END:VEVENT
BEGIN:VEVENT
DTSTART;VALUE=DATE:20250416
DTEND;VALUE=DATE:20250422
DTSTAMP:20260423T133318
CREATED:20230104T175052Z
LAST-MODIFIED:20250210T165755Z
UID:10876-1744761600-1745279999@getnatural.de
SUMMARY:Historische Leipziger Ostermesse
DESCRIPTION:„Die vergnüglichste Art\, historisches zu erleben“ \nKarfreitag Ruhetag!
URL:https://getnatural.de/event/historische-leipziger-ostermesse-2/
LOCATION:Leipziger Marktplatz\, Markt 1a\, Leipzig\, 04109\, Deutschland
ORGANIZER;CN="Heureka":MAILTO:info@heureka-leipzig.de
END:VEVENT
BEGIN:VEVENT
DTSTART;VALUE=DATE:20250412
DTEND;VALUE=DATE:20250414
DTSTAMP:20260423T133318
CREATED:20230104T172407Z
LAST-MODIFIED:20250310T180800Z
UID:10869-1744416000-1744588799@getnatural.de
SUMMARY:Idsteiner Hexenmarkt 2025
DESCRIPTION:  \n 
URL:https://getnatural.de/event/idsteiner-hexenmarkt/
LOCATION:Idstein\, Obere und Untere Schlossgasse\, Idstein\, Hessen\, 65510\, Deutschland
ATTACH;FMTTYPE=image/jpeg:https://getnatural.de/wp-content/uploads/2023/01/8630873887_77f53e9ea8_w.jpg
ORGANIZER;CN="Musikfreunde Idstein e.V.":MAILTO:info@idsteiner-hexenmarkt.de
END:VEVENT
BEGIN:VEVENT
DTSTART;VALUE=DATE:20241123
DTEND;VALUE=DATE:20241223
DTSTAMP:20260423T133318
CREATED:20240326T151947Z
LAST-MODIFIED:20240326T151947Z
UID:13485-1732320000-1734911999@getnatural.de
SUMMARY:Weihnachtsmarkt in Siegburg
DESCRIPTION:Mittelalterlicher Markt zur Weihnachtszeit\, hier auf dem altehrwürdigen Marktplatz zu Siegburg.
URL:https://getnatural.de/event/weihnachtsmarkt-in-siegburg/
LOCATION:Siegburg\, Marktplatz\,\, Siegburg\, Nordrhein-Westfalen\, 53721\, Deutschland
ATTACH;FMTTYPE=image/jpeg:https://getnatural.de/wp-content/uploads/2024/03/Siegburg.jpg
ORGANIZER;CN="Stadtmarketing Siegburg GmbH":MAILTO:weihnachtsmarkt@siegburg.de
END:VEVENT
BEGIN:VEVENT
DTSTART;VALUE=DATE:20240907
DTEND;VALUE=DATE:20240909
DTSTAMP:20260423T133318
CREATED:20240326T151327Z
LAST-MODIFIED:20240326T151327Z
UID:13483-1725667200-1725839999@getnatural.de
SUMMARY:Mittelalterfest Eggenburg - Waldviertel
DESCRIPTION:2024 wird die Zeitreise ins Mittelalter zum 30. Mal stattfinden. Damit ist es nicht nur das größte\, sondern auch das älteste noch bestehende Mittelalterfest in Österreich!
URL:https://getnatural.de/event/mittelalterfest-eggenburg-waldviertel/
LOCATION:Eggenburg\, Österreich\, Hauplplatz\, Eggenburg\, 3730\, Österreich
ATTACH;FMTTYPE=image/jpeg:https://getnatural.de/wp-content/uploads/2021/03/Mittelaltermarkt-Eggenburg-01-scaled.jpg
END:VEVENT
BEGIN:VEVENT
DTSTART;VALUE=DATE:20240804
DTEND;VALUE=DATE:20240812
DTSTAMP:20260423T133318
CREATED:20240326T150750Z
LAST-MODIFIED:20240326T150750Z
UID:13480-1722729600-1723420799@getnatural.de
SUMMARY:Mittelalterwoche in Visby auf Gotland
DESCRIPTION:Auf\, auf nach Schweden! \nImmer in der 32. Kalenderwoche des Jahres findet auf der schwedischen Ostseeinsel Gotland mit der Mittelalterwoche (Medeltidsveckan) eines der größten derartigen Feste ganz Europas statt.
URL:https://getnatural.de/event/mittelalterwoche-in-visby-auf-gotland/
LOCATION:Visby\, Insel Gotland\, Strandgatan 28\, Visby\, Insel Gotland\, 62156\, Schweden
ATTACH;FMTTYPE=image/jpeg:https://getnatural.de/wp-content/uploads/2024/03/Visby.jpg
ORGANIZER;CN="Medeltidsveckan pa Gotland":MAILTO:info@medeltidsveckan.se
END:VEVENT
BEGIN:VEVENT
DTSTART;VALUE=DATE:20240726
DTEND;VALUE=DATE:20240729
DTSTAMP:20260423T133318
CREATED:20240326T150017Z
LAST-MODIFIED:20240326T150017Z
UID:13477-1721952000-1722211199@getnatural.de
SUMMARY:Kaltenberger Ritterturnier 3. von 3 Wochenenden
DESCRIPTION:das 3. und letzte Wochenende des Turniers!
URL:https://getnatural.de/event/kaltenberger-ritterturnier-3-von-3-wochenenden/
LOCATION:Kaltenberg\, Schloßstraße 10\, Geltendorf\, 82269\, Deutschland
ATTACH;FMTTYPE=image/jpeg:https://getnatural.de/wp-content/uploads/2024/03/Kaltenberg.jpg
ORGANIZER;CN="Ritterturnier Kaltenberg Veranstaltungs-GmbH":MAILTO:ritterturnier@schloss-kaltenberg.de
END:VEVENT
BEGIN:VEVENT
DTSTART;VALUE=DATE:20240719
DTEND;VALUE=DATE:20240722
DTSTAMP:20260423T133318
CREATED:20240326T145405Z
LAST-MODIFIED:20240326T145405Z
UID:13475-1721347200-1721606399@getnatural.de
SUMMARY:Kaltenberger Ritterturnier 2. von 3 Wochenenden
DESCRIPTION:Auf nach Kaltenberg!
URL:https://getnatural.de/event/kaltenberger-ritterturnier-2-von-3-wochenenden/
LOCATION:Kaltenberg\, Schloßstraße 10\, Geltendorf\, 82269\, Deutschland
ATTACH;FMTTYPE=image/jpeg:https://getnatural.de/wp-content/uploads/2021/03/Ritterturnier-Kaltenberg-Veranstaltung-01.jpg
ORGANIZER;CN="Ritterturnier Kaltenberg Veranstaltungs-GmbH":MAILTO:ritterturnier@schloss-kaltenberg.de
END:VEVENT
BEGIN:VEVENT
DTSTART;VALUE=DATE:20240712
DTEND;VALUE=DATE:20240715
DTSTAMP:20260423T133318
CREATED:20240326T145050Z
LAST-MODIFIED:20240326T145050Z
UID:13473-1720742400-1721001599@getnatural.de
SUMMARY:Kaltenberger Ritterturnier 1. von 3 Wochenenden
DESCRIPTION:Mit viel Liebe wird ein Mittelalterfest inszeniert.\nDie Krönung ist die große Ritterturnier-Show: Eine Liveshow der Extraklasse.\nAm Freitag\, den 12.07.2024 findet die diesjährige Gauklernacht statt! \n 
URL:https://getnatural.de/event/kaltenberger-ritterturnier-1-von-3-wochenenden/
LOCATION:Kaltenberg\, Schloßstraße 10\, Geltendorf\, 82269\, Deutschland
ATTACH;FMTTYPE=image/jpeg:https://getnatural.de/wp-content/uploads/2022/04/Kaltenberger-Rittertunier.jpg
ORGANIZER;CN="Ritterturnier Kaltenberg Veranstaltungs-GmbH":MAILTO:ritterturnier@schloss-kaltenberg.de
END:VEVENT
BEGIN:VEVENT
DTSTART;VALUE=DATE:20240628
DTEND;VALUE=DATE:20240702
DTSTAMP:20260423T133318
CREATED:20240229T103433Z
LAST-MODIFIED:20240229T103433Z
UID:13311-1719532800-1719878399@getnatural.de
SUMMARY:Peter-und-Paul-Festes Mittelalter- und Bürgerwehren-Event in Bretten
DESCRIPTION:„Eine Stadt lebt ihre Geschichte“ und wir sind mit dabei!
URL:https://getnatural.de/event/peter-und-paul-festes-mittelalter-und-buergerwehren-event-in-bretten/
LOCATION:Bretten\, Bretten\, 75015\, Deutschland
END:VEVENT
BEGIN:VEVENT
DTSTART;VALUE=DATE:20240621
DTEND;VALUE=DATE:20240622
DTSTAMP:20260423T133318
CREATED:20240226T093255Z
LAST-MODIFIED:20240229T102736Z
UID:13260-1718928000-1719014399@getnatural.de
SUMMARY:Maulbronner Klosterfest
DESCRIPTION:Erlebe das Folk-Rock Festival im Maulbronner Klosterhof!
URL:https://getnatural.de/event/maulbronner-klosterfest-3/
LOCATION:Maulbronn\, Klosterhof 31\, Maulbronn\, Baden-Württemberg\, 75433\, Deutschland
ATTACH;FMTTYPE=image/jpeg:https://getnatural.de/wp-content/uploads/2024/02/R.jpg
END:VEVENT
BEGIN:VEVENT
DTSTART;VALUE=DATE:20240621
DTEND;VALUE=DATE:20240624
DTSTAMP:20260423T133318
CREATED:20240215T105812Z
LAST-MODIFIED:20240215T105812Z
UID:13220-1718928000-1719187199@getnatural.de
SUMMARY:Maulbronner Klosterfest
DESCRIPTION:Historisches Stadtfest für die ganze Familie. Die einmalige Atmosphäre im UNESCO-Weltkulturerbe Kloster Maulbronn und die historische Gestaltung sorgen für ein einmaliges Flair.
URL:https://getnatural.de/event/maulbronner-klosterfest-2/
LOCATION:Maulbronn\, Klosterhof 31\, Maulbronn\, Baden-Württemberg\, 75433\, Deutschland
END:VEVENT
BEGIN:VEVENT
DTSTART;VALUE=DATE:20240518
DTEND;VALUE=DATE:20240521
DTSTAMP:20260423T133318
CREATED:20240229T101856Z
LAST-MODIFIED:20240229T101942Z
UID:13205-1715990400-1716249599@getnatural.de
SUMMARY:Spektakulum Oberwesel
DESCRIPTION:Ob Gaukler\, Ritter\, Spielleute und Barden oder historisches Handwerk – für jeden Geschmack und jedes Alter ist etwas dabei!
URL:https://getnatural.de/event/spektakulum-oberwesel/
LOCATION:Oberwesel\, Oberwesel\, 55430\, Deutschland
ORGANIZER;CN="Verein zur Erhaltung mittelalterlichen Brauchtums in Oberwesel e. V.":MAILTO:vorsitzender@spectaculum-oberwesel.de
END:VEVENT
BEGIN:VEVENT
DTSTART;VALUE=DATE:20240510
DTEND;VALUE=DATE:20240513
DTSTAMP:20260423T133318
CREATED:20240215T094709Z
LAST-MODIFIED:20240215T095135Z
UID:13202-1715299200-1715558399@getnatural.de
SUMMARY:Historischer Markt Öttingen
DESCRIPTION:Auf\, auf nach Öttingen!
URL:https://getnatural.de/event/historischer-markt-oettingen-2/
LOCATION:Oettinger Rathaus\, Schäfflergasse\, Oettingen\, Bayern\, 86732\, Deutschland
END:VEVENT
BEGIN:VEVENT
DTSTART;TZID=Europe/Berlin:20240317T130000
DTEND;TZID=Europe/Berlin:20240317T170000
DTSTAMP:20260423T133318
CREATED:20240215T093217Z
LAST-MODIFIED:20240215T093351Z
UID:13195-1710680400-1710694800@getnatural.de
SUMMARY:Historischer Kleiderbasar Öttingen
DESCRIPTION:passendes Gewand für Kinder\, Frauen und Männer
URL:https://getnatural.de/event/historischer-kleiderbasar-oettingen/
LOCATION:Oettinger Rathaus\, Schäfflergasse\, Oettingen\, Bayern\, 86732\, Deutschland
ORGANIZER;CN="Stadt Oettingen i.Bay.":MAILTO:stadt@oettingen.de
END:VEVENT
BEGIN:VEVENT
DTSTART;VALUE=DATE:20231125
DTEND;VALUE=DATE:20231223
DTSTAMP:20260423T133318
CREATED:20230313T220622Z
LAST-MODIFIED:20230313T220622Z
UID:11011-1700870400-1703289599@getnatural.de
SUMMARY:Mittelaltermarkt zur Weihnachtszeit in Siegburg
DESCRIPTION:„Seyd herzlich willkommen geheißen\, Ihr lieben Leute von Nah und Fern\,\nhier auf dem altehrwürdigen Marktplatz zu Siegburg.“ \n 
URL:https://getnatural.de/event/mittelaltermarkt-zur-weihnachtszeit-in-siegburg/
LOCATION:Siegburg\, Marktplatz\,\, Siegburg\, Nordrhein-Westfalen\, 53721\, Deutschland
ORGANIZER;CN="Stadtmarketing Siegburg GmbH":MAILTO:weihnachtsmarkt@siegburg.de
END:VEVENT
END:VCALENDAR